BEGIN:VCALENDAR
VERSION:2.0
PRODID:-//wp-events-plugin.com//7.2.3.1//EN
BEGIN:VEVENT
UID:4@aquisocial.fr
DTSTART;TZID=Europe/Paris:20250916T090000
DTEND;TZID=Europe/Paris:20250916T160000
DTSTAMP:20250915T085122Z
URL:https://aquisocial.fr/events/portes-ouvertes-de-lafpa-a-pau-64/
SUMMARY:Portes-ouvertes de l'Afpa à Pau (64)
DESCRIPTION:Des infos pour toutes les personnes qui souhaitent découvrir l
 'offre de formation pour adultes\, en vue d'une montée en compétences\, 
 une reconversion professionnelle\, etc.
CATEGORIES:Portes-ouvertes
LOCATION:Pau\, 37 avenue du Bezet\, Pau\, France
X-APPLE-STRUCTURED-LOCATION;VALUE=URI;X-ADDRESS=37 avenue du Bezet\, Pau\, 
 France;X-APPLE-RADIUS=100;X-TITLE=Pau:geo:0,0
END:VEVENT
BEGIN:VTIMEZONE
TZID:Europe/Paris
X-LIC-LOCATION:Europe/Paris
BEGIN:DAYLIGHT
DTSTART:20250330T030000
TZOFFSETFROM:+0100
TZOFFSETTO:+0200
TZNAME:CEST
END:DAYLIGHT
END:VTIMEZONE
END:VCALENDAR