BEGIN:VCALENDAR
VERSION:2.0
PRODID:-//wp-events-plugin.com//7.2.3.1//EN
BEGIN:VEVENT
UID:24@aquisocial.fr
DTSTART;TZID=Europe/Paris:20260325T000000
DTEND;TZID=Europe/Paris:20260325T000000
DTSTAMP:20260309T072456Z
URL:https://aquisocial.fr/events/decision-concernant-lhermione/
SUMMARY:Décision concernant l'Hermione
DESCRIPTION:Le tribunal doit sceller le sort de la frégate et rendre son a
 vis sur l'offre des différents repreneurs.
CATEGORIES:Décision de justice
LOCATION:Tribunal de La Rochelle\, 10 rue du Palais\, La Rochelle\, France
X-APPLE-STRUCTURED-LOCATION;VALUE=URI;X-ADDRESS=10 rue du Palais\, La Roche
 lle\, France;X-APPLE-RADIUS=100;X-TITLE=Tribunal de La Rochelle:geo:0,0
END:VEVENT
BEGIN:VTIMEZONE
TZID:Europe/Paris
X-LIC-LOCATION:Europe/Paris
BEGIN:STANDARD
DTSTART:20251026T020000
TZOFFSETFROM:+0200
TZOFFSETTO:+0100
TZNAME:CET
END:STANDARD
END:VTIMEZONE
END:VCALENDAR