BEGIN:VCALENDAR
VERSION:2.0
PRODID:-//wp-events-plugin.com//7.2.3.1//EN
BEGIN:VEVENT
UID:22@aquisocial.fr
DTSTART;TZID=Europe/Paris:20260212T140000
DTEND;TZID=Europe/Paris:20260212T140000
DTSTAMP:20260119T055651Z
URL:https://aquisocial.fr/events/audience-en-appel-lecas-de-nersac-16/
SUMMARY:Audience en appel Lecas de Nersac (16)
DESCRIPTION:Devant le tribunal de commerce de Caen (Calvados)
CATEGORIES:Décision de justice
END:VEVENT
BEGIN:VTIMEZONE
TZID:Europe/Paris
X-LIC-LOCATION:Europe/Paris
BEGIN:STANDARD
DTSTART:20251026T020000
TZOFFSETFROM:+0200
TZOFFSETTO:+0100
TZNAME:CET
END:STANDARD
END:VTIMEZONE
END:VCALENDAR